BEGIN:VCALENDAR
VERSION:2.0
PRODID:-//Menifee.Church - ECPv5.6.0//NONSGML v1.0//EN
CALSCALE:GREGORIAN
METHOD:PUBLISH
X-WR-CALNAME:Menifee.Church
X-ORIGINAL-URL:https://menifee.church
X-WR-CALDESC:Events for Menifee.Church
BEGIN:VTIMEZONE
TZID:America/Los_Angeles
BEGIN:DAYLIGHT
TZOFFSETFROM:-0800
TZOFFSETTO:-0700
TZNAME:PDT
DTSTART:20230312T100000
END:DAYLIGHT
BEGIN:STANDARD
TZOFFSETFROM:-0700
TZOFFSETTO:-0800
TZNAME:PST
DTSTART:20231105T090000
END:STANDARD
BEGIN:DAYLIGHT
TZOFFSETFROM:-0800
TZOFFSETTO:-0700
TZNAME:PDT
DTSTART:20240310T100000
END:DAYLIGHT
BEGIN:STANDARD
TZOFFSETFROM:-0700
TZOFFSETTO:-0800
TZNAME:PST
DTSTART:20241103T090000
END:STANDARD
BEGIN:DAYLIGHT
TZOFFSETFROM:-0800
TZOFFSETTO:-0700
TZNAME:PDT
DTSTART:20250309T100000
END:DAYLIGHT
BEGIN:STANDARD
TZOFFSETFROM:-0700
TZOFFSETTO:-0800
TZNAME:PST
DTSTART:20251102T090000
END:STANDARD
END:VTIMEZONE
BEGIN:VEVENT
DTSTART;VALUE=DATE:20250725
DTEND;VALUE=DATE:20250728
DTSTAMP:20260420T100245
CREATED:20250430T010059Z
LAST-MODIFIED:20250530T043312Z
UID:1819-1753401600-1753660799@menifee.church
SUMMARY:Mexico Family Missions Trip
DESCRIPTION:Be a part of making a lasting impact!\nWe’re inviting all Cornerstone families to join us for a mission trip down to doors of faith orphanage located in La Fonda\, Baja California from July 25-27. \nJoin us as we partner with Doors of Faith Orphanage to bring hope and love to orphans and the surrounding community—because at Cornerstone\, helping the hurting is at the heart of our Discipleship Pathway. \nChildren ages 8 and up are welcome to join us. Participants ages 8–17 must be accompanied by an adult (18 or older). \nA valid passport is required for all participants.\n\nDETAILS\nDate: July 25-27\nLocation: La Fonda\, Baja California\nCost: $375 per person\nMinimum Non-Refundable Deposit: $120\nFULL PAYMENT MUST BE RECEIVED BY JULY 10\nAvailable Discounts:\n– Sign up by May 18th: $375 $299\n– Sign up by June 23rd: $375 $325
URL:https://menifee.church/event/mexico-family-missions-trip/
LOCATION:Cornerstone Community Church\, 34570 Monte Vista Drive\, Wildomar\, CA\, 92595\, United States
CATEGORIES:All Church,Global,HELP THE HURTING,missions
ATTACH;FMTTYPE=image/jpeg:https://menifee.church/wp-content/uploads/sites/4/2025/04/GM-Mexico25-ufx1fg.tmp_-fZZufY.tmp_.jpg
ORGANIZER;CN="Cornerstone%20Community%20Church":MAILTO:info@gocornerstone.com
END:VEVENT
BEGIN:VEVENT
DTSTART;VALUE=DATE:20250611
DTEND;VALUE=DATE:20250620
DTSTAMP:20260420T100245
CREATED:20250416T172415Z
LAST-MODIFIED:20250530T043310Z
UID:1777-1749600000-1750377599@menifee.church
SUMMARY:Rwanda Missions Trip 2025
DESCRIPTION:Join us for a missions trip to Rwanda from June 11-19\, 2025. We will spend our time working alongside a local church in the Musanze district in the Northern Province of Rwanda. \nMinistry Focus\nMinistry activities will vary but expected outreaches include youth focused outreaches\, home visits\, a service project\, discipleship trainings and more! \nCost\nTotal = $3\,150\nDeposit = $1\,000 by 2/1 or first come first serve\n– $500 monthly payments after ($600 last payment)\nFULL BALANCE MUST BE PAID BY 6/1\nIf people miss any payments each month we may open it up to others on waitlist. \nThe cost includes:\n– Flight\n– Transportation (to & from airport)\n– Hotels\n– 3 meals a day once on the ground\n– Travel Insurance\n– Ministry project funds \nCost Does Not Include\nPersonal expenses\, extra meals\, credit card fee of approximately 3% \nRecommended to bring $100 – $200 for airport food\, snacks and souvenirs \n!!IMPORTANT!!\nAll payments are non-refundable and if you are unable to meet one of your monthly payments\, we reserve the right to bump someone from the waitlist to replace your spot on the trip. If you are unable to go for any reason\, please consider what you have paid as a donation towards the trip to be used for gospel ministry in Rwanda.
URL:https://menifee.church/event/rwanda-missions-trip-2025/
LOCATION:Cornerstone Community Church\, 34570 Monte Vista Drive\, Wildomar\, CA\, 92595\, United States
CATEGORIES:All Church,Espanol,Global,Groups,GROW WITH OTHERS,HELP THE HURTING,High School,Kids K-5,Men,Middle School,missions,Seniors,USE YOUR GIFTS,Women,Young Adults
ATTACH;FMTTYPE=image/jpeg:https://menifee.church/wp-content/uploads/sites/4/2025/04/GM-Rwanda25-oMioaD.tmp_-ZFlbpY.tmp_.jpg
ORGANIZER;CN="Cornerstone%20Community%20Church":MAILTO:info@gocornerstone.com
END:VEVENT
BEGIN:VEVENT
DTSTART;TZID=America/Los_Angeles:20250608T080000
DTEND;TZID=America/Los_Angeles:20250608T140000
DTSTAMP:20260420T100245
CREATED:20250523T034518Z
LAST-MODIFIED:20250530T043310Z
UID:1870-1749369600-1749391200@menifee.church
SUMMARY:FOOD DRIVE with Helping Hands
DESCRIPTION:Cornerstone’s Community Missions team recently learned that Helping Hands\, one of our trusted ministry partners\, is facing a supply shortage. This has put many local seniors at risk of going without enough groceries each month. We’re asking for your help even though you stepped up in February during our AMAZING food drive that supported a different pantry. Together\, we can ensure that seniors in our community do not go hungry. Let’s come alongside Helping Hands and provide the care and support our seniors deserve. \nCOLLECTION DATES: June 1 & 8
URL:https://menifee.church/event/food-drive-with-helping-hands-2/
LOCATION:Cornerstone Community Church\, 34570 Monte Vista Drive\, Wildomar\, CA\, 92595\, United States
CATEGORIES:All Church,Community,HELP THE HURTING,missions
ATTACH;FMTTYPE=image/jpeg:https://menifee.church/wp-content/uploads/sites/4/2025/05/FoodDrive25-0nlGO9.tmp_-t0we2b.tmp_.jpg
ORGANIZER;CN="Cornerstone%20Community%20Church":MAILTO:info@gocornerstone.com
END:VEVENT
BEGIN:VEVENT
DTSTART;TZID=America/Los_Angeles:20250601T080000
DTEND;TZID=America/Los_Angeles:20250601T140000
DTSTAMP:20260420T100245
CREATED:20250523T034516Z
LAST-MODIFIED:20250530T043310Z
UID:1868-1748764800-1748786400@menifee.church
SUMMARY:FOOD DRIVE with Helping Hands
DESCRIPTION:Cornerstone’s Community Missions team recently learned that Helping Hands\, one of our trusted ministry partners\, is facing a supply shortage. This has put many local seniors at risk of going without enough groceries each month. We’re asking for your help even though you stepped up in February during our AMAZING food drive that supported a different pantry. Together\, we can ensure that seniors in our community do not go hungry. Let’s come alongside Helping Hands and provide the care and support our seniors deserve. \nCOLLECTION DATES: June 1 & 8
URL:https://menifee.church/event/food-drive-with-helping-hands/
LOCATION:Cornerstone Community Church\, 34570 Monte Vista Drive\, Wildomar\, CA\, 92595\, United States
CATEGORIES:All Church,Community,HELP THE HURTING,missions
ATTACH;FMTTYPE=image/jpeg:https://menifee.church/wp-content/uploads/sites/4/2025/05/FoodDrive25-0nlGO9.tmp_-t0we2b.tmp_.jpg
ORGANIZER;CN="Cornerstone%20Community%20Church":MAILTO:info@gocornerstone.com
END:VEVENT
BEGIN:VEVENT
DTSTART;TZID=America/Los_Angeles:20250426T080000
DTEND;TZID=America/Los_Angeles:20250426T130000
DTSTAMP:20260420T100245
CREATED:20250416T172227Z
LAST-MODIFIED:20250426T003540Z
UID:1755-1745654400-1745672400@menifee.church
SUMMARY:Menifee Better Together SERVE DAY
DESCRIPTION:Cornerstone is joining with Habitat for Humanity and the city of Menifee to assist community members in local beautification projects and revitalizing senior homes. Activities include community clean up\, painting homes\, residences and other small projects throughout the city. \nREGISTRATION IS THROUGH THE HABITAT FOR HUMANITY\nIndividual Registration: Every volunteer must be registered individually so we can accurately manage capacity. Mention that you are a part of Cornerstone Community Church. \nWe’re excited that Cornerstone Community Church is going to be part of something special – the Menifee Better Together in partnership with Habitat for Humanity Inland Valley! This is your chance to roll up your sleeves\, give back to the community\, and make a tangible impact. Please see below regarding details about the event. \nEVENT DETAILS\nLocation: The Church of Jesus Christ of Latter-day Saints 29725 Bradley Road\, Sun City\, CA 92586\nDate: Saturday\, April 26\, 2025\nCheck-in Time: 7:00AM \nWhat to Bring & Wear:\nClosed-toe shoes (required)\nClothes that can get dirty\nSunscreen \nWhat will be provided:\nFree grab-and-go breakfast (while supplies last)\nFree event t-shirt (while supplies last)\nWater\nBarbecue Celebration after the project at the same location as check-in. \nAge Requirement: We have projects for all ages however Habitat projects have a requirement of 10 years old \nYouth ages 15 and under require adult supervision. \nYouth (18 and under) must have one parent\, guardian\, or advisor on site for every (4) youth attending \nIndividual Registration: Every volunteer must be registered individually so we can accurately manage capacity. \nAddress Details: The home address will be provided at check-in on the event day. \nTransportation: Volunteers are responsible for their own transportation from check-in to the project site.
URL:https://menifee.church/event/menifee-better-together-serve-day/
LOCATION:Cornerstone Community Church\, 34570 Monte Vista Drive\, Wildomar\, CA\, 92595\, United States
CATEGORIES:All Church,Community,missions
ATTACH;FMTTYPE=image/jpeg:https://menifee.church/wp-content/uploads/sites/4/2025/04/ServeDay25-Menifee-2-wgRWYC.tmp_-7yPQJL.tmp_.jpg
ORGANIZER;CN="Cornerstone%20Community%20Church":MAILTO:info@gocornerstone.com
END:VEVENT
BEGIN:VEVENT
DTSTART;TZID=America/Los_Angeles:20231202T080000
DTEND;TZID=America/Los_Angeles:20231202T120000
DTSTAMP:20260420T100245
CREATED:20231117T200859Z
LAST-MODIFIED:20231123T210029Z
UID:1728-1701504000-1701518400@menifee.church
SUMMARY:City Serve Day with Hands & Feet Ministries
DESCRIPTION:Are you looking for a way to make a difference in our community?\nLet’s join together for a service day in partnership with Hands and Feet Ministries that will leave a lasting impact on those in need. \nOn December 2nd\, we will meet at the Hands and Feet Ranch for a day of service to meet both tangible & relational needs of the widows and children who live there. Activities will include painting\, landscaping\, and some skilled labor projects\, as well as playing games and getting to know residents. After the service projects are complete\, we will eat lunch and pray together for God to continue using them to change lives in our community. \nVolunteers 12 years or older may join us for this special day. No experience is necessary for some areas like raking and painting\, however we would love to know if you have experience in any particular trade such as landscaping\, electrical\, framing\, etc. If you have a specific skill or trade please let us know in the form. \nSchedule: \nArrival: 7:45AM for check-in and to pick up a shirt. \nServe: 8:00AM – 11:30AM \nLunch: 11:30AM – 12:00PM \nAddress: \n19815 Grand Ave\, Lake Elsinore CA\, 92530 \nNote: This is an outdoor service day and while there will be some shaded areas\, we strongly recommend you bring a hat\, sunscreen\, water bottle\, and comfortable work gloves.
URL:https://menifee.church/event/city-serve-day-with-hands-feet-ministries/
LOCATION:Cornerstone Community Church\, 34570 Monte Vista Drive\, Wildomar\, CA\, 92595\, United States
CATEGORIES:Community,missions
ATTACH;FMTTYPE=image/jpeg:https://menifee.church/wp-content/uploads/sites/4/2023/11/CMissions-ServeDay4-2-1QMDaA.tmp_-xYgJ5H.tmp_.jpg
END:VEVENT
BEGIN:VEVENT
DTSTART;TZID=America/Los_Angeles:20231112T102000
DTEND;TZID=America/Los_Angeles:20231112T112000
DTSTAMP:20260420T100245
CREATED:20230816T025815Z
LAST-MODIFIED:20231112T182117Z
UID:1564-1699784400-1699788000@menifee.church
SUMMARY:Philippines Missions Trip Interest Meeting
DESCRIPTION:Join us for a 10 day missions trip to the Philippines from April 8-18\, 2024. \nWe will spend our time working alongside several local churches in the Albay province of the Bicol region. Ministry activities will include food relief to the elderly\, various youth focused outreaches\, home visits\, a service project at a local school\, and more! \nIn order to be considered for this trip\, please register to attend this interest meeting on November 12th in the Next Steps Center from 10:20AM – 11:20AM.
URL:https://menifee.church/event/philippines-missions-trip-interest-meeting/
LOCATION:Cornerstone Community Church\, 34570 Monte Vista Drive\, Wildomar\, CA\, 92595\, United States
CATEGORIES:Global,missions
ATTACH;FMTTYPE=image/jpeg:https://menifee.church/wp-content/uploads/sites/4/2023/08/GM-Philippines24-Slide-YRZ6jR.tmp_-3z92Fe.tmp_.jpg
END:VEVENT
BEGIN:VEVENT
DTSTART;TZID=America/Los_Angeles:20231110T183000
DTEND;TZID=America/Los_Angeles:20231110T193000
DTSTAMP:20260420T100245
CREATED:20231106T171257Z
LAST-MODIFIED:20231110T180748Z
UID:1713-1699641000-1699644600@menifee.church
SUMMARY:DESSERT & A BIG ANNOUNCEMENT
DESCRIPTION:CORNERSTONE IS GROWING (Larger & Younger)\nIf you attend the first or second service on Sunday\, you’ve probably noticed that Cornerstone is growing. Two Sundays ago we had 700+ more people than that same Sunday last year\, and yesterday we had 900+ more people than that same Sunday last year. Wow! \nGod is doing something and we know that He get’s all the glory for drawing people to himself. What’s really interesting is that our church is also growing younger. 25% of those in attendance are babies through high schoolers. God is bringing us the next generation and so we’ve been praying about how to best serve them. \nJoin us this Friday\, November 12\, from 6:30-7:30PM in the Main Sanctuary for some dessert and a BIG announcement from Pastor Andy about how Cornerstone plans to reach the next generation for Christ. Whether you have kids or not\, if you call Cornerstone home then we’re asking you to join us for this important meeting. \nThere will be no childcare available\, but kids and students are welcome to join you at this informal family meeting. We’ll have a bounce house and other fun games on the patio for them to enjoy before and after our meeting. \nPlease RSVP so we know how much dessert to make.
URL:https://menifee.church/event/dessert-a-big-announcement/
LOCATION:Cornerstone Community Church\, 34570 Monte Vista Drive\, Wildomar\, CA\, 92595\, United States
CATEGORIES:All Church,C-KiDS,C-KiDS jr.,missions,Youth
ATTACH;FMTTYPE=image/png:https://menifee.church/wp-content/uploads/sites/4/2023/11/REACH_dessert-dNgoyD.tmp_-bGRthh.tmp_.png
END:VEVENT
BEGIN:VEVENT
DTSTART;TZID=America/Los_Angeles:20231108T183000
DTEND;TZID=America/Los_Angeles:20231108T203000
DTSTAMP:20260420T100245
CREATED:20220921T094342Z
LAST-MODIFIED:20231108T175208Z
UID:1191-1699468200-1699475400@menifee.church
SUMMARY:Missions Night
DESCRIPTION:Join us for Missions Night\, where we will gather together and tell stories of what God has done in 2023 through our church\, both locally and globally! \nWe’ll eat food and hear firsthand from a few people whose lives have been forever changed while serving our neighbors nearby and on missions trips. We will also show photos and videos no one has seen yet! Plus\, an exclusive sneak peek into our 2024 missions trips and upcoming opportunities to get involved. You won’t want to miss this inspirational event! \nChildcare is available for ages Birth-5th Grade for free. Please select the childcare option for the children needing so on your registration. Pizza will be provided for those in childcare at no extra cost\, so drop them off and enjoy the evening in The Chapel!
URL:https://menifee.church/event/missions-night/
LOCATION:Cornerstone Community Church\, 34570 Monte Vista Drive\, Wildomar\, CA\, 92595\, United States
CATEGORIES:All Church,Community,Global,missions
ATTACH;FMTTYPE=image/png:https://menifee.church/wp-content/uploads/sites/4/2023/09/MISSIONS-NIGHT-xh26Hg.tmp_-nhCKoC.tmp_.png
END:VEVENT
BEGIN:VEVENT
DTSTART;TZID=America/Los_Angeles:20231014T070000
DTEND;TZID=America/Los_Angeles:20231014T120000
DTSTAMP:20260420T100245
CREATED:20230907T073737Z
LAST-MODIFIED:20231014T135907Z
UID:1613-1697266800-1697284800@menifee.church
SUMMARY:City Serve Day with Lake Elsinore Dream Center
DESCRIPTION:Have you ever wanted to change your community but didn’t know how?\nYou CAN make a difference… starting at City Serve 2023! \nJoin us as we work together in partnership with the Dream Center of Lake Elsinore to be a blessing to the city of Lake Elsinore. We will be helping with a wide variety of projects from gardening\, clean up\, trash removal\, painting\, and general maintenance. \nWHERE:\nWe will start and finish the work day at the Dream Center Downtown Headquarters located at 114 East Peck Street Lake Elsinore\, CA 92530 \nWHEN: Saturday\, October 14 \nSCHEDULE:\n7:00-8:00AM Sign-in\, T-shirts\, & Breakfast\n8:00AM-12:00PM Work sites around the city\n12:00-1:00PM Free BBQ Lunch & Celebration!
URL:https://menifee.church/event/city-serve-day-with-lake-elsinore-dream-center/
LOCATION:Lake Elsinore Dream Center\, 114 East Peck Street\, Lake Elsinore\, CA\, 92530\, United States
CATEGORIES:Community,missions
ATTACH;FMTTYPE=image/jpeg:https://menifee.church/wp-content/uploads/sites/4/2023/09/CityServe-DC-2zqqeF.tmp_-7Wimlo.tmp_.jpg
END:VEVENT
END:VCALENDAR